Workbook

Sheet Summary
A1: Weekly update: Harbour Home Services Ltd (FICTIONAL sample data)
A2: Finished example: built from the CLEANED data (3 fixes applied). Compare your own numbers with these.
A4: This week starts | B4: 46286
A5: Last week starts | B5: =B4-7
A7: Measure | B7: This week | C7: Last week | D7: Change
A8: Enquiries | B8: =COUNTIFS(Data!$J$2:$J$147,$B$4) | C8: =COUNTIFS(Data!$J$2:$J$147,$B$5) | D8: =B8-C8
A9: Won | B9: =COUNTIFS(Data!$J$2:$J$147,$B$4,Data!$E$2:$E$147,"Won") | C9: =COUNTIFS(Data!$J$2:$J$147,$B$5,Data!$E$2:$E$147,"Won") | D9: =B9-C9
A10: Won value (€) | B10: =SUMIFS(Data!$G$2:$G$147,Data!$J$2:$J$147,$B$4) | C10: =SUMIFS(Data!$G$2:$G$147,Data!$J$2:$J$147,$B$5) | D10: =B10-C10
A11: Quoted value, all enquiries (€) | B11: =SUMIFS(Data!$F$2:$F$147,Data!$J$2:$J$147,$B$4) | C11: =SUMIFS(Data!$F$2:$F$147,Data!$J$2:$J$147,$B$5) | D11: =B11-C11
A12: Average first response (hours) | B12: =ROUND(AVERAGEIFS(Data!$H$2:$H$147,Data!$J$2:$J$147,$B$4),1) | C12: =ROUND(AVERAGEIFS(Data!$H$2:$H$147,Data!$J$2:$J$147,$B$5),1) | D12: =B12-C12
A13: Rows with no status | B13: =COUNTIFS(Data!$J$2:$J$147,$B$4,Data!$E$2:$E$147,"") | C13: =COUNTIFS(Data!$J$2:$J$147,$B$5,Data!$E$2:$E$147,"") | D13: =B13-C13
A14: Enquiries from Website form | B14: =COUNTIFS(Data!$J$2:$J$147,$B$4,Data!$C$2:$C$147,"Website form") | C14: =COUNTIFS(Data!$J$2:$J$147,$B$5,Data!$C$2:$C$147,"Website form") | D14: =B14-C14
A15: Enquiries from Phone | B15: =COUNTIFS(Data!$J$2:$J$147,$B$4,Data!$C$2:$C$147,"Phone") | C15: =COUNTIFS(Data!$J$2:$J$147,$B$5,Data!$C$2:$C$147,"Phone") | D15: =B15-C15
A16: Enquiries from Referral | B16: =COUNTIFS(Data!$J$2:$J$147,$B$4,Data!$C$2:$C$147,"Referral") | C16: =COUNTIFS(Data!$J$2:$J$147,$B$5,Data!$C$2:$C$147,"Referral") | D16: =B16-C16
A17: Enquiries from Google Business Profile | B17: =COUNTIFS(Data!$J$2:$J$147,$B$4,Data!$C$2:$C$147,"Google Business Profile") | C17: =COUNTIFS(Data!$J$2:$J$147,$B$5,Data!$C$2:$C$147,"Google Business Profile") | D17: =B17-C17
A18: Enquiries from Facebook | B18: =COUNTIFS(Data!$J$2:$J$147,$B$4,Data!$C$2:$C$147,"Facebook") | C18: =COUNTIFS(Data!$J$2:$J$147,$B$5,Data!$C$2:$C$147,"Facebook") | D18: =B18-C18

Sheet Data
A1: Date | B1: Enquiry ID | C1: Source | D1: Service | E1: Status | F1: Quote value | G1: Won value | H1: Response hours | I1: Owner | J1: Week starting
A2: 46238 | B2: H-2001 | C2: Referral | D2: Gutter cleaning | E2: Won | F2: 200 | G2: 200 | H2: 11.2 | I2: Siobhán | J2: =A2-WEEKDAY(A2,2)+1
A3: 46240 | B3: H-2002 | C3: Website form | D3: Plumbing repair | E3: Lost | F3: 380 | G3: 0 | H3: 24.8 | I3: Declan | J3: =A3-WEEKDAY(A3,2)+1
A4: 46237 | B4: H-2003 | C4: Google Business Profile | D4: Plumbing repair | E4: Won | F4: 370 | G4: 370 | H4: 16 | I4: Siobhán | J4: =A4-WEEKDAY(A4,2)+1
A5: 46237 | B5: H-2004 | C5: Google Business Profile | D5: Plumbing repair | E5: Quoted | F5: 430 | G5: 0 | H5: 10.8 | I5: Siobhán | J5: =A5-WEEKDAY(A5,2)+1
A6: 46238 | B6: H-2005 | C6: Referral | D6: Plumbing repair | E6: Lost | F6: 400 | G6: 0 | H6: 23.4 | I6: Declan | J6: =A6-WEEKDAY(A6,2)+1
A7: 46240 | B7: H-2006 | C7: Website form | D7: Boiler service | E7: Quoted | F7: 120 | G7: 0 | H7: 2.5 | I7: Siobhán | J7: =A7-WEEKDAY(A7,2)+1
A8: 46240 | B8: H-2007 | C8: Website form | D8: Boiler service | E8: Won | F8: 120 | G8: 120 | H8: 26.8 | I8: Declan | J8: =A8-WEEKDAY(A8,2)+1
A9: 46237 | B9: H-2008 | C9: Website form | D9: Gutter cleaning | E9: Won | F9: 160 | G9: 160 | H9: 8.7 | I9: Declan | J9: =A9-WEEKDAY(A9,2)+1
A10: 46240 | B10: H-2009 | C10: Phone | D10: Bathroom refit | E10: Lost | F10: 13640 | G10: 0 | H10: 14.7 | I10: Siobhán | J10: =A10-WEEKDAY(A10,2)+1
A11: 46237 | B11: H-2010 | C11: Website form | D11: Gutter cleaning | E11: Lost | F11: 260 | G11: 0 | H11: 2.8 | I11: Siobhán | J11: =A11-WEEKDAY(A11,2)+1
A12: 46237 | B12: H-2011 | C12: Phone | D12: Gutter cleaning | E12: Lost | F12: 230 | G12: 0 | H12: 12.8 | I12: Declan | J12: =A12-WEEKDAY(A12,2)+1
A13: 46240 | B13: H-2012 | C13: Phone | D13: Boiler service | E13: Won | F13: 120 | G13: 120 | H13: 5.9 | I13: Siobhán | J13: =A13-WEEKDAY(A13,2)+1
... A147: 46286 | B147: H-2146 | C147: Phone | D147: Plumbing repair | E147: Quoted | F147: 360 | G147: 0 | H147: 2.8 | I147: Siobhán | J147: =A147-WEEKDAY(A147,2)+1
